BEGIN:VCALENDAR
VERSION:2.0
PRODID:icalendar-ruby
CALSCALE:GREGORIAN
NAME:Events
X-WR-CALNAME:Events
X-WR-TIMEZONE:UTC
BEGIN:VEVENT
DTSTAMP:20260421T081243Z
UID:event_366603_20260427t211500z@api.veracross.com
DTSTART:20260427T211500Z
DESCRIPTION:Boys 8 Baseball vs. Whitfield
LOCATION:Field #8 JV Baseball
SEQUENCE:649093874
SUMMARY:Boys 8 Baseball vs. Whitfield
END:VEVENT
END:VCALENDAR
